BEGIN:VCALENDAR
VERSION:2.0
PRODID:-//hacksw/handcal//NONSGML v1.0//EN
BEGIN:VEVENT
SUMMARY:Wihrun : HORBOURG-WIHR (68)
UID:ef8ec256-7052-4b66-879a-e55c4f0b1eb5
DTSTART:20260404T220000Z
DTEND:20260405T220000Z
LOCATION:Localisation   
CATEGORIES:Sportif
STATUS:
DESCRIPTION:<p><a href="https://www.wihrun.fr/" target="_blank"
 rel="noreferrer noopener">https://www.wihrun.fr/</a></p>
 
 <p><a
 href="https://www.sporkrono.fr/courses/3026909709/wihrun/"
 target="_blank" rel="noreferrer
 noopener"><strong>Resultats</strong></a></p>
URL;VALUE=URI:https://asl-la-robertsau.sportsregions.fr/evenements/2026/04/05/wihrun-horbourg-wihr-68-2438723
END:VEVENT
END:VCALENDAR
