BEGIN:VCALENDAR
VERSION:2.0
PRODID:-//hacksw/handcal//NONSGML v1.0//EN
BEGIN:VEVENT
SUMMARY:Courses Natures de Niederbronn : NIEDERBRONN-LES-BAINS (67)
UID:f0d1826f-e3aa-4d87-95d3-e7ea5e0a15c1
DTSTART:20260411T220000Z
DTEND:20260412T220000Z
LOCATION:Localisation   
CATEGORIES:Sportif
STATUS:
DESCRIPTION:<p><a href="https://www.lesvosgirunners.com/"
 target="_blank" rel="noreferrer
 noopener">https://www.lesvosgirunners.com/</a></p>
 
 <p><a
 href="https://cnn.v3.livetrail.net/fr/2026" target="_blank"
 rel="noreferrer noopener"><strong>Resultats</strong></a></p>
URL;VALUE=URI:https://asl-la-robertsau.sportsregions.fr/evenements/2026/04/12/courses-natures-de-niederbronn-niederbronn-les-bains-67-2420166
END:VEVENT
END:VCALENDAR
