BEGIN:VCALENDAR
VERSION:2.0
PRODID:-//hacksw/handcal//NONSGML v1.0//EN
BEGIN:VEVENT
SUMMARY:Marathon de Chinon : CHINON (37)
UID:8f46a964-5002-4c30-943a-f5b88c01cfcc
DTSTART:20260411T220000Z
DTEND:20260412T220000Z
LOCATION:Localisation   
CATEGORIES:Sportif
STATUS:
DESCRIPTION:<p><a href="https://www.marathondechinon.fr/"
 target="_blank" rel="noreferrer
 noopener">https://www.marathondechinon.fr/</a></p>
 
 <p><a
 href="https://www.klikego.com/resultats/marathon-de-chinon-2026/1660098263645-5"
 target="_blank" rel="noreferrer
 noopener"><strong>Resultats</strong></a></p>
URL;VALUE=URI:https://asl-la-robertsau.sportsregions.fr/evenements/2026/04/12/marathon-de-chinon-chinon-37-2441884
END:VEVENT
END:VCALENDAR
