BEGIN:VCALENDAR
VERSION:2.0
PRODID:-//hacksw/handcal//NONSGML v1.0//EN
BEGIN:VEVENT
SUMMARY:Les courses du printemps : REICHSHOFFEN (67)
UID:c31cb9ef-882f-4969-b88e-f0fd25f3b6b1
DTSTART:20260417T220000Z
DTEND:20260418T220000Z
LOCATION:Localisation   
CATEGORIES:Sportif
STATUS:
DESCRIPTION:<p><a
 href="https://www.reichshoffen.fr/Course-de-Printemps-413"
 target="_blank" rel="noreferrer
 noopener">https://www.reichshoffen.fr/Course-de-Printemps-413</a></p>
 
 <p><strong>Resultats</strong>
 : <a
 href="https://performance67.com/resultats/Resultats2026/resultats026.html"
 target="_blank" rel="noreferrer
 noopener">https://performance67.com/resultats/Resultats2026/resultats026.html</a></p>
URL;VALUE=URI:https://asl-la-robertsau.sportsregions.fr/evenements/2026/04/18/les-courses-du-printemps-reichshoffen-67-2443336
END:VEVENT
END:VCALENDAR
