BEGIN:VCALENDAR
VERSION:2.0
PRODID:-//hacksw/handcal//NONSGML v1.0//EN
BEGIN:VEVENT
SUMMARY:Trail du Wurzel : VILLE (67)
UID:258e0853-602d-45fb-b82b-1d96c2b0bf5b
DTSTART:20260418T220000Z
DTEND:20260419T220000Z
LOCATION:Localisation   
CATEGORIES:Sportif
STATUS:
DESCRIPTION:<p><a href="https://trailduwurzel.fr/" target="_blank"
 rel="noreferrer noopener">https://trailduwurzel.fr/</a></p>
 
 <p><a
 href="https://www.sporkrono.fr/courses/1965419420/trail-du-wurzel/#resultats"
 target="_blank" rel="noreferrer
 noopener"><strong>Resultats</strong></a> </p>
URL;VALUE=URI:https://asl-la-robertsau.sportsregions.fr/evenements/2026/04/19/trail-du-wurzel-ville-67-2442902
END:VEVENT
END:VCALENDAR
