BEGIN:VCALENDAR
VERSION:2.0
PRODID:-//hacksw/handcal//NONSGML v1.0//EN
BEGIN:VEVENT
SUMMARY:Kehler rheinuferlauf : KEHL (Allemagne)
UID:2dc4ba47-143f-4756-9890-c2d28ab6daff
DTSTART:20260612T220000Z
DTEND:20260613T220000Z
LOCATION:Localisation   
CATEGORIES:Sportif
STATUS:
DESCRIPTION:<p><a
 href="https://www.kehler-rheinuferlauf.de/en-fran%C3%A7ais/"
 target="_blank" rel="noreferrer
 noopener"><strong>Information</strong></a></p>
URL;VALUE=URI:https://asl-la-robertsau.sportsregions.fr/evenements/2026/06/13/kehler-rheinuferlauf-kehl-allemagne-2438399
END:VEVENT
END:VCALENDAR
